Package: CellScore Version: 1.19.0 Command: /home/biocbuild/bbs-3.17-bioc/R/bin/R CMD check --install=check:CellScore.install-out.txt --library=/home/biocbuild/bbs-3.17-bioc/R/site-library --timings CellScore_1.19.0.tar.gz StartedAt: 2023-04-12 05:14:07 -0400 (Wed, 12 Apr 2023) EndedAt: 2023-04-12 05:19:49 -0400 (Wed, 12 Apr 2023) EllapsedTime: 341.6 seconds RetCode: 0 Status: OK CheckDir: CellScore.Rcheck Warnings: 0