Package: CeTF Version: 1.11.2 Command: /home/biocbuild/bbs-3.17-bioc/R/bin/R CMD build --keep-empty-dirs --no-resave-data CeTF StartedAt: 2023-04-11 16:03:37 -0400 (Tue, 11 Apr 2023) EndedAt: 2023-04-11 16:06:28 -0400 (Tue, 11 Apr 2023) EllapsedTime: 170.5 seconds RetCode: 0 Status: OK PackageFile: CeTF_1.11.2.tar.gz PackageFileSize: 3.712 MiB