Package: CONSTANd Version: 1.7.0 Command: /home/biocbuild/bbs-3.17-bioc/R/bin/R CMD build --keep-empty-dirs --no-resave-data CONSTANd StartedAt: 2023-04-11 16:12:06 -0400 (Tue, 11 Apr 2023) EndedAt: 2023-04-11 16:12:13 -0400 (Tue, 11 Apr 2023) EllapsedTime: 7.3 seconds RetCode: 0 Status: OK PackageFile: CONSTANd_1.7.0.tar.gz PackageFileSize: 1.809 MiB