Package: COHCAP Version: 1.45.0 Command: /home/biocbuild/bbs-3.17-bioc/R/bin/R CMD build --keep-empty-dirs --no-resave-data COHCAP StartedAt: 2023-04-11 16:10:26 -0400 (Tue, 11 Apr 2023) EndedAt: 2023-04-11 16:11:01 -0400 (Tue, 11 Apr 2023) EllapsedTime: 35.2 seconds RetCode: 0 Status: OK PackageFile: COHCAP_1.45.0.tar.gz PackageFileSize: 132.4 KiB