Package: CARNIVAL Version: 2.9.0 Command: /home/biocbuild/bbs-3.17-bioc/R/bin/R CMD build --keep-empty-dirs --no-resave-data CARNIVAL StartedAt: 2023-04-12 02:22:54 -0400 (Wed, 12 Apr 2023) EndedAt: 2023-04-12 02:23:03 -0400 (Wed, 12 Apr 2023) EllapsedTime: 9.0 seconds RetCode: 0 Status: OK PackageFile: CARNIVAL_2.9.0.tar.gz PackageFileSize: 2.047 MiB