Package: CAGEr Version: 2.5.0 Command: /home/biocbuild/bbs-3.17-bioc/R/bin/R CMD build --keep-empty-dirs --no-resave-data CAGEr StartedAt: 2023-04-12 02:22:21 -0400 (Wed, 12 Apr 2023) EndedAt: 2023-04-12 02:25:55 -0400 (Wed, 12 Apr 2023) EllapsedTime: 213.8 seconds RetCode: 0 Status: OK PackageFile: CAGEr_2.5.0.tar.gz PackageFileSize: 1.711 MiB