Package: Biobase Version: 2.59.0 Command: /home/biocbuild/bbs-3.17-bioc/R/bin/R CMD INSTALL Biobase StartedAt: 2023-04-11 15:01:57 -0400 (Tue, 11 Apr 2023) EndedAt: 2023-04-11 15:02:07 -0400 (Tue, 11 Apr 2023) EllapsedTime: 9.8 seconds RetCode: 0 Status: OK