Package: BiRewire Version: 3.31.0 Command: /home/biocbuild/bbs-3.17-bioc/R/bin/R CMD INSTALL BiRewire StartedAt: 2023-04-11 15:03:05 -0400 (Tue, 11 Apr 2023) EndedAt: 2023-04-11 15:03:18 -0400 (Tue, 11 Apr 2023) EllapsedTime: 13.2 seconds RetCode: 0 Status: OK