Package: BUScorrect Version: 1.17.0 Command: /home/biocbuild/bbs-3.17-bioc/R/bin/R CMD build --keep-empty-dirs --no-resave-data BUScorrect StartedAt: 2023-04-11 15:59:36 -0400 (Tue, 11 Apr 2023) EndedAt: 2023-04-11 16:01:19 -0400 (Tue, 11 Apr 2023) EllapsedTime: 102.8 seconds RetCode: 0 Status: OK PackageFile: BUScorrect_1.17.0.tar.gz PackageFileSize: 3.517 MiB