Package: BDMMAcorrect Version: 1.17.0 Command: /home/biocbuild/bbs-3.17-bioc/R/bin/R CMD build --keep-empty-dirs --no-resave-data BDMMAcorrect StartedAt: 2023-04-11 15:51:58 -0400 (Tue, 11 Apr 2023) EndedAt: 2023-04-11 15:55:55 -0400 (Tue, 11 Apr 2023) EllapsedTime: 237.6 seconds RetCode: 0 Status: OK PackageFile: BDMMAcorrect_1.17.0.tar.gz PackageFileSize: 395.9 KiB