Package: ATACseqQC Version: 1.23.1 Command: /home/biocbuild/bbs-3.17-bioc/R/bin/R CMD INSTALL ATACseqQC StartedAt: 2023-04-11 15:42:33 -0400 (Tue, 11 Apr 2023) EndedAt: 2023-04-11 15:43:28 -0400 (Tue, 11 Apr 2023) EllapsedTime: 55.0 seconds RetCode: 0 Status: OK