Package: ATACseqQC Version: 1.23.1 Command: /home/biocbuild/bbs-3.17-bioc/R/bin/R CMD build --keep-empty-dirs --no-resave-data ATACseqQC StartedAt: 2023-04-11 15:48:58 -0400 (Tue, 11 Apr 2023) EndedAt: 2023-04-11 15:51:40 -0400 (Tue, 11 Apr 2023) EllapsedTime: 162.1 seconds RetCode: 0 Status: OK PackageFile: ATACseqQC_1.23.1.tar.gz PackageFileSize: 14.18 MiB