Package: APAlyzer Version: 1.13.0 Command: /home/biocbuild/bbs-3.17-bioc/R/bin/R CMD build --keep-empty-dirs --no-resave-data APAlyzer StartedAt: 2023-04-11 15:47:44 -0400 (Tue, 11 Apr 2023) EndedAt: 2023-04-11 15:49:23 -0400 (Tue, 11 Apr 2023) EllapsedTime: 98.3 seconds RetCode: 0 Status: OK PackageFile: APAlyzer_1.13.0.tar.gz PackageFileSize: 3.898 MiB