Package: ABSSeq Version: 1.53.0 Command: /home/biocbuild/bbs-3.17-bioc/R/bin/R CMD build --keep-empty-dirs --no-resave-data ABSSeq StartedAt: 2023-04-11 15:45:42 -0400 (Tue, 11 Apr 2023) EndedAt: 2023-04-11 15:46:53 -0400 (Tue, 11 Apr 2023) EllapsedTime: 70.8 seconds RetCode: 0 Status: OK PackageFile: ABSSeq_1.53.0.tar.gz PackageFileSize: 993.8 KiB