Package: yeastNagalakshmi Version: 1.36.0 Command: /home/biocbuild/bbs-3.17-bioc/R/bin/R CMD check --install=check:yeastNagalakshmi.install-out.txt --library=/home/biocbuild/bbs-3.17-bioc/R/site-library --timings yeastNagalakshmi_1.36.0.tar.gz StartedAt: 2023-10-12 12:15:14 -0400 (Thu, 12 Oct 2023) EndedAt: 2023-10-12 12:15:24 -0400 (Thu, 12 Oct 2023) EllapsedTime: 10.0 seconds RetCode: 0 Status: OK CheckDir: yeastNagalakshmi.Rcheck Warnings: 0