Package: yeastCC Version: 1.40.0 Command: /home/biocbuild/bbs-3.17-bioc/R/bin/R CMD check --install=check:yeastCC.install-out.txt --library=/home/biocbuild/bbs-3.17-bioc/R/site-library --timings yeastCC_1.40.0.tar.gz StartedAt: 2023-10-12 12:14:21 -0400 (Thu, 12 Oct 2023) EndedAt: 2023-10-12 12:14:48 -0400 (Thu, 12 Oct 2023) EllapsedTime: 27.0 seconds RetCode: 0 Status: WARNINGS CheckDir: yeastCC.Rcheck Warnings: 2