Package: yeastCC Version: 1.40.0 Command: /home/biocbuild/bbs-3.17-bioc/R/bin/R CMD build --keep-empty-dirs --no-resave-data yeastCC StartedAt: 2023-10-12 10:56:43 -0400 (Thu, 12 Oct 2023) EndedAt: 2023-10-12 10:56:45 -0400 (Thu, 12 Oct 2023) EllapsedTime: 1.6 seconds RetCode: 0 Status: OK PackageFile: yeastCC_1.40.0.tar.gz PackageFileSize: 5.842 MiB