git_url: https://git.bioconductor.org/packages/yeastCC git_branch: RELEASE_3_17 git_last_commit: f231917 git_last_commit_date: 2023-04-25 09:50:23 -0400 (Tue, 25 Apr 2023) Package: yeastCC Version: 1.40.0 Maintainer: Sandrine Dudoit MaintainerEmail: sandrine at stat.berkeley.edu