Package: tximportData Version: 1.28.0 Command: /home/biocbuild/bbs-3.17-bioc/R/bin/R CMD INSTALL tximportData StartedAt: 2023-10-12 10:00:29 -0400 (Thu, 12 Oct 2023) EndedAt: 2023-10-12 10:00:32 -0400 (Thu, 12 Oct 2023) EllapsedTime: 3.3 seconds RetCode: 0 Status: OK