git_url: https://git.bioconductor.org/packages/tximportData git_branch: RELEASE_3_17 git_last_commit: 7de494b git_last_commit_date: 2023-04-25 10:41:20 -0400 (Tue, 25 Apr 2023) Package: tximportData Version: 1.28.0 Maintainer: Michael Love MaintainerEmail: michaelisaiahlove at gmail.com