git_url: https://git.bioconductor.org/packages/tweeDEseqCountData git_branch: RELEASE_3_17 git_last_commit: 6f0375b git_last_commit_date: 2023-04-25 09:53:56 -0400 (Tue, 25 Apr 2023) Package: tweeDEseqCountData Version: 1.38.0 Maintainer: Juan R Gonzalez MaintainerEmail: jrgonzalez at creal.cat