Package: tuberculosis Version: 1.6.0 Command: /home/biocbuild/bbs-3.17-bioc/R/bin/R CMD build --keep-empty-dirs --no-resave-data tuberculosis StartedAt: 2023-10-12 10:55:39 -0400 (Thu, 12 Oct 2023) EndedAt: 2023-10-12 10:56:48 -0400 (Thu, 12 Oct 2023) EllapsedTime: 68.9 seconds RetCode: 0 Status: OK PackageFile: tuberculosis_1.6.0.tar.gz PackageFileSize: 318.7 KiB