git_url: https://git.bioconductor.org/packages/tofsimsData git_branch: RELEASE_3_17 git_last_commit: 81235d9 git_last_commit_date: 2023-04-25 10:39:36 -0400 (Tue, 25 Apr 2023) Package: tofsimsData Version: 1.28.0 Maintainer: Lorenz Gerber MaintainerEmail: genfys at gmail.com