git_url: https://git.bioconductor.org/packages/tinesath1cdf git_branch: RELEASE_3_17 git_last_commit: 6a8f034 git_last_commit_date: 2023-04-25 09:51:14 -0400 (Tue, 25 Apr 2023) Package: tinesath1cdf Version: 1.38.0 Maintainer: Tine Casneuf MaintainerEmail: tine at ebi.ac.uk