Package: synapterdata Version: 1.38.0 Command: /home/biocbuild/bbs-3.17-bioc/R/bin/R CMD build --keep-empty-dirs --no-resave-data synapterdata StartedAt: 2023-10-12 10:52:16 -0400 (Thu, 12 Oct 2023) EndedAt: 2023-10-12 10:52:49 -0400 (Thu, 12 Oct 2023) EllapsedTime: 33.3 seconds RetCode: 0 Status: OK PackageFile: synapterdata_1.38.0.tar.gz PackageFileSize: 418.4 MiB