Package: stjudem Version: 1.40.0 Command: /home/biocbuild/bbs-3.17-bioc/R/bin/R CMD INSTALL stjudem StartedAt: 2023-10-12 10:00:18 -0400 (Thu, 12 Oct 2023) EndedAt: 2023-10-12 10:00:22 -0400 (Thu, 12 Oct 2023) EllapsedTime: 4.6 seconds RetCode: 0 Status: OK