git_url: https://git.bioconductor.org/packages/stjudem git_branch: RELEASE_3_17 git_last_commit: f37cee1 git_last_commit_date: 2023-04-25 09:50:20 -0400 (Tue, 25 Apr 2023) Package: stjudem Version: 1.40.0 Maintainer: Joern Toedling MaintainerEmail: toedling at ebi.ac.uk