git_url: https://git.bioconductor.org/packages/stemHypoxia git_branch: RELEASE_3_17 git_last_commit: 61fd954 git_last_commit_date: 2023-04-25 10:31:36 -0400 (Tue, 25 Apr 2023) Package: stemHypoxia Version: 1.36.0 Maintainer: Cristobal Fresno MaintainerEmail: cristobalfresno at gmail.com