Package: spqnData Version: 1.12.0 Command: /home/biocbuild/bbs-3.17-bioc/R/bin/R CMD check --install=check:spqnData.install-out.txt --library=/home/biocbuild/bbs-3.17-bioc/R/site-library --timings spqnData_1.12.0.tar.gz StartedAt: 2023-10-12 12:04:56 -0400 (Thu, 12 Oct 2023) EndedAt: 2023-10-12 12:05:54 -0400 (Thu, 12 Oct 2023) EllapsedTime: 58.2 seconds RetCode: 0 Status: OK CheckDir: spqnData.Rcheck Warnings: 0