Package: spqnData Version: 1.12.0 Command: /home/biocbuild/bbs-3.17-bioc/R/bin/R CMD build --keep-empty-dirs --no-resave-data spqnData StartedAt: 2023-10-12 10:52:07 -0400 (Thu, 12 Oct 2023) EndedAt: 2023-10-12 10:52:10 -0400 (Thu, 12 Oct 2023) EllapsedTime: 3.3 seconds RetCode: 0 Status: OK PackageFile: spqnData_1.12.0.tar.gz PackageFileSize: 10.17 MiB