git_url: https://git.bioconductor.org/packages/serumStimulation git_branch: RELEASE_3_17 git_last_commit: 3c09689 git_last_commit_date: 2023-04-25 09:54:03 -0400 (Tue, 25 Apr 2023) Package: serumStimulation Version: 1.36.0 Maintainer: Morten Hansen, MaintainerEmail: mhansen at sund.ku.dk