git_url: https://git.bioconductor.org/packages/seqc git_branch: RELEASE_3_17 git_last_commit: 79ac304 git_last_commit_date: 2023-04-25 10:37:09 -0400 (Tue, 25 Apr 2023) Package: seqc Version: 1.34.0 Maintainer: Yang Liao and Wei Shi MaintainerEmail: Wei.Shi at onjcri.org.au