Package: scATAC.Explorer Version: 1.6.0 Command: /home/biocbuild/bbs-3.17-bioc/R/bin/R CMD check --install=check:scATAC.Explorer.install-out.txt --library=/home/biocbuild/bbs-3.17-bioc/R/site-library --timings scATAC.Explorer_1.6.0.tar.gz StartedAt: 2023-10-12 12:00:23 -0400 (Thu, 12 Oct 2023) EndedAt: 2023-10-12 12:03:30 -0400 (Thu, 12 Oct 2023) EllapsedTime: 187.1 seconds RetCode: 0 Status: OK CheckDir: scATAC.Explorer.Rcheck Warnings: 0