Package: rcellminerData Version: 2.22.0 Command: /home/biocbuild/bbs-3.17-bioc/R/bin/R CMD build --keep-empty-dirs --no-resave-data rcellminerData StartedAt: 2023-10-12 10:46:22 -0400 (Thu, 12 Oct 2023) EndedAt: 2023-10-12 10:50:19 -0400 (Thu, 12 Oct 2023) EllapsedTime: 236.8 seconds RetCode: 0 Status: OK PackageFile: rcellminerData_2.22.0.tar.gz PackageFileSize: 317.5 MiB