Package: rRDPData Version: 1.20.0 Command: /home/biocbuild/bbs-3.17-bioc/R/bin/R CMD INSTALL rRDPData StartedAt: 2023-10-12 10:02:11 -0400 (Thu, 12 Oct 2023) EndedAt: 2023-10-12 10:02:18 -0400 (Thu, 12 Oct 2023) EllapsedTime: 7.0 seconds RetCode: 0 Status: OK