Package: rRDPData Version: 1.20.0 Command: /home/biocbuild/bbs-3.17-bioc/R/bin/R CMD build --keep-empty-dirs --no-resave-data rRDPData StartedAt: 2023-10-12 10:47:35 -0400 (Thu, 12 Oct 2023) EndedAt: 2023-10-12 10:47:51 -0400 (Thu, 12 Oct 2023) EllapsedTime: 16.7 seconds RetCode: 0 Status: OK PackageFile: rRDPData_1.20.0.tar.gz PackageFileSize: 17.27 MiB