Package: pwrEWAS.data Version: 1.14.0 Command: /home/biocbuild/bbs-3.17-bioc/R/bin/R CMD check --install=check:pwrEWAS.data.install-out.txt --library=/home/biocbuild/bbs-3.17-bioc/R/site-library --timings pwrEWAS.data_1.14.0.tar.gz StartedAt: 2023-10-12 11:52:51 -0400 (Thu, 12 Oct 2023) EndedAt: 2023-10-12 11:53:19 -0400 (Thu, 12 Oct 2023) EllapsedTime: 28.0 seconds RetCode: 1 Status: ERROR CheckDir: pwrEWAS.data.Rcheck Warnings: NA