Package: pwrEWAS.data Version: 1.14.0 Command: /home/biocbuild/bbs-3.17-bioc/R/bin/R CMD build --keep-empty-dirs --no-resave-data pwrEWAS.data StartedAt: 2023-10-12 10:46:09 -0400 (Thu, 12 Oct 2023) EndedAt: 2023-10-12 10:46:13 -0400 (Thu, 12 Oct 2023) EllapsedTime: 4.3 seconds RetCode: 0 Status: OK PackageFile: pwrEWAS.data_1.14.0.tar.gz PackageFileSize: 154.1 KiB