git_url: https://git.bioconductor.org/packages/pwrEWAS.data git_branch: RELEASE_3_17 git_last_commit: cb51f5a git_last_commit_date: 2023-04-25 10:47:50 -0400 (Tue, 25 Apr 2023) Package: pwrEWAS.data Version: 1.14.0 Maintainer: Stefan Graw MaintainerEmail: shgraw at uams.edu