Package: plasFIA Version: 1.28.0 Command: /home/biocbuild/bbs-3.17-bioc/R/bin/R CMD build --keep-empty-dirs --no-resave-data plasFIA StartedAt: 2023-10-12 10:45:01 -0400 (Thu, 12 Oct 2023) EndedAt: 2023-10-12 10:45:03 -0400 (Thu, 12 Oct 2023) EllapsedTime: 2.0 seconds RetCode: 0 Status: OK PackageFile: plasFIA_1.28.0.tar.gz PackageFileSize: 10.28 MiB