git_url: https://git.bioconductor.org/packages/plasFIA git_branch: RELEASE_3_17 git_last_commit: c6f5c58 git_last_commit_date: 2023-04-25 10:43:38 -0400 (Tue, 25 Apr 2023) Package: plasFIA Version: 1.28.0 Maintainer: Alexis Delabriere MaintainerEmail: alexis.delabriere at outlook.fr