git_url: https://git.bioconductor.org/packages/nanotubes git_branch: RELEASE_3_17 git_last_commit: 89a0d47 git_last_commit_date: 2023-04-25 10:47:12 -0400 (Tue, 25 Apr 2023) Package: nanotubes Version: 1.16.0 Maintainer: Malte Thodberg MaintainerEmail: maltethodberg at gmail.com