Package: msPurityData Version: 1.28.0 Command: /home/biocbuild/bbs-3.17-bioc/R/bin/R CMD check --install=check:msPurityData.install-out.txt --library=/home/biocbuild/bbs-3.17-bioc/R/site-library --timings msPurityData_1.28.0.tar.gz StartedAt: 2023-10-12 11:44:52 -0400 (Thu, 12 Oct 2023) EndedAt: 2023-10-12 11:45:25 -0400 (Thu, 12 Oct 2023) EllapsedTime: 33.0 seconds RetCode: 0 Status: OK CheckDir: msPurityData.Rcheck Warnings: 0