Package: msPurityData Version: 1.28.0 Command: /home/biocbuild/bbs-3.17-bioc/R/bin/R CMD build --keep-empty-dirs --no-resave-data msPurityData StartedAt: 2023-10-12 10:41:39 -0400 (Thu, 12 Oct 2023) EndedAt: 2023-10-12 10:44:06 -0400 (Thu, 12 Oct 2023) EllapsedTime: 147.4 seconds RetCode: 0 Status: OK PackageFile: msPurityData_1.28.0.tar.gz PackageFileSize: 233.5 MiB