Package: microRNAome Version: 1.22.0 Command: /home/biocbuild/bbs-3.17-bioc/R/bin/R CMD check --install=check:microRNAome.install-out.txt --library=/home/biocbuild/bbs-3.17-bioc/R/site-library --timings microRNAome_1.22.0.tar.gz StartedAt: 2023-10-12 11:41:28 -0400 (Thu, 12 Oct 2023) EndedAt: 2023-10-12 11:42:55 -0400 (Thu, 12 Oct 2023) EllapsedTime: 87.7 seconds RetCode: 0 Status: WARNINGS CheckDir: microRNAome.Rcheck Warnings: 2