Package: microRNAome Version: 1.22.0 Command: /home/biocbuild/bbs-3.17-bioc/R/bin/R CMD build --keep-empty-dirs --no-resave-data microRNAome StartedAt: 2023-10-12 10:40:17 -0400 (Thu, 12 Oct 2023) EndedAt: 2023-10-12 10:40:18 -0400 (Thu, 12 Oct 2023) EllapsedTime: 1.0 seconds RetCode: 0 Status: OK PackageFile: microRNAome_1.22.0.tar.gz PackageFileSize: 4.238 MiB