Package: methylclockData Version: 1.8.1 Command: /home/biocbuild/bbs-3.17-bioc/R/bin/R CMD INSTALL methylclockData StartedAt: 2023-10-12 10:11:46 -0400 (Thu, 12 Oct 2023) EndedAt: 2023-10-12 10:12:23 -0400 (Thu, 12 Oct 2023) EllapsedTime: 36.7 seconds RetCode: 0 Status: OK