Package: methylclockData Version: 1.8.1 Command: /home/biocbuild/bbs-3.17-bioc/R/bin/R CMD build --keep-empty-dirs --no-resave-data methylclockData StartedAt: 2023-10-12 10:39:54 -0400 (Thu, 12 Oct 2023) EndedAt: 2023-10-12 10:41:06 -0400 (Thu, 12 Oct 2023) EllapsedTime: 71.5 seconds RetCode: 0 Status: OK PackageFile: methylclockData_1.8.1.tar.gz PackageFileSize: 230.8 KiB