git_url: https://git.bioconductor.org/packages/methylclockData git_branch: RELEASE_3_17 git_last_commit: dde0411 git_last_commit_date: 2023-07-10 04:05:29 -0400 (Mon, 10 Jul 2023) Package: methylclockData Version: 1.8.1 Maintainer: Dolors Pelegri-Siso MaintainerEmail: dolors.pelegri at isglobal.org