Package: maqcExpression4plex Version: 1.44.0 Command: /home/biocbuild/bbs-3.17-bioc/R/bin/R CMD INSTALL maqcExpression4plex StartedAt: 2023-10-12 10:00:32 -0400 (Thu, 12 Oct 2023) EndedAt: 2023-10-12 10:00:34 -0400 (Thu, 12 Oct 2023) EllapsedTime: 1.9 seconds RetCode: 0 Status: OK